BEGIN:VCALENDAR
VERSION:2.0
PRODID:-//hacksw/handcal//NONSGML v1.0//EN
BEGIN:VEVENT
DTSTAMP:20250117T070000Z
DTSTART:20250117T070000Z
DTEND:20250117T070000Z
SUMMARY:Mit MdB Nicolas Zippelius auf dem Wochenmarkt in Langensteinbach
END:VEVENT
END:VCALENDAR
